BEGIN:VCALENDAR
VERSION:2.0
PRODID:-//AudioTheme 2.3.5
BEGIN:VEVENT
UID:urn:uuid:b1e69cb2-e740-4c23-b73a-b2b9cfdc4eef
URL:https://jefkearns.com/shows/gig-679/
DTSTART;TZID=GMT:20170916T010000
SUMMARY:An Evening with Stevie Gee and Jef Kearns
DESCRIPTION:Fri. Sept. 15/17 at 9 pm.  Join me with Stevie Gee on vocals and acoustic guitar at UnCorked in Georgetown\, Ontario.  Get in the weekend vibe with us as we play Jazz\, Swing\, Blues and Pop Ballads.  Uncorked features mouth-watering small bites & share plates\, creative cocktails\, craft beer\, and romantic wines often accompanied by amazingly-talented local musicians. :-)   
LOCATION:Uncorked on Main\, 72 Main St. S.\, Georgetown\, Ontario\, Canada\, L7G 3G3
END:VEVENT
END:VCALENDAR
