BEGIN:VCALENDAR
VERSION:2.0
PRODID:-//AudioTheme 2.3.5
BEGIN:VEVENT
UID:urn:uuid:bf2e35ad-8ee3-4fef-b578-7bc6e2c8947b
URL:https://jefkearns.com/shows/leslieville-wanderlust/
DTSTART;TZID=GMT:20170930T160000
SUMMARY:Leslieville - Wanderlust
DESCRIPTION:Sat. Sept. 30 from noon to 2 pm at Stage One on Booth Avenue at the 11th Annual Leslieville Wanderlust.  Music.  Live Art. Food & Drink and shopping! 
LOCATION:Leslieville BIA\, Queen St. East\, Leslieville\, Ontario\, Canada
END:VEVENT
END:VCALENDAR
