BEGIN:VCALENDAR
VERSION:2.0
PRODID:-//AudioTheme 2.3.5
BEGIN:VEVENT
UID:urn:uuid:aeb82b0f-427c-4876-b65c-defc91981089
URL:https://jefkearns.com/shows/my-city-my-six/
DTSTART;TZID=GMT:20170927T210000
SUMMARY:My City My Six
DESCRIPTION:Wednesday\, September 27\, 2017 - Honoured to play at a signature "My City My Six" Project.  Please join me as we celebrate art\, culture and community!    Background:  Throughout the spring and summer of 2017\, Torontonians were invited to share something essential about themselves – in just six words – and over 4000 stories were contributed. Some are funny and others poignant\, some inspiring and others intriguing. Together they provide a snapshot of Toronto at this moment in time.
LOCATION:City Hall Rotunda\, 100 Queen St. W\, Toronto\, Ontario\, Canada\, M5H 2N2
END:VEVENT
END:VCALENDAR
