BEGIN:VCALENDAR
VERSION:2.0
PRODID:-//AudioTheme 2.3.5
BEGIN:VEVENT
UID:urn:uuid:18bb4479-4825-4ace-919c-5b6bd0d95dbb
URL:https://jefkearns.com/shows/private-event/
DTSTART;VALUE=DATE:20170917
SUMMARY:Private Event
LOCATION:Private Event\, Toronto\, Ontario\, Canada
END:VEVENT
END:VCALENDAR
